BEGIN:VCALENDAR
VERSION:2.0
PRODID:-//Clean Air Choice - ECPv6.15.18//NONSGML v1.0//EN
CALSCALE:GREGORIAN
METHOD:PUBLISH
X-ORIGINAL-URL:https://www.cleanairchoice.org
X-WR-CALDESC:Events for Clean Air Choice
REFRESH-INTERVAL;VALUE=DURATION:PT1H
X-Robots-Tag:noindex
X-PUBLISHED-TTL:PT1H
BEGIN:VTIMEZONE
TZID:America/Chicago
BEGIN:DAYLIGHT
TZOFFSETFROM:-0600
TZOFFSETTO:-0500
TZNAME:CDT
DTSTART:20250309T080000
END:DAYLIGHT
BEGIN:STANDARD
TZOFFSETFROM:-0500
TZOFFSETTO:-0600
TZNAME:CST
DTSTART:20251102T070000
END:STANDARD
BEGIN:DAYLIGHT
TZOFFSETFROM:-0600
TZOFFSETTO:-0500
TZNAME:CDT
DTSTART:20260308T080000
END:DAYLIGHT
BEGIN:STANDARD
TZOFFSETFROM:-0500
TZOFFSETTO:-0600
TZNAME:CST
DTSTART:20261101T070000
END:STANDARD
BEGIN:DAYLIGHT
TZOFFSETFROM:-0600
TZOFFSETTO:-0500
TZNAME:CDT
DTSTART:20270314T080000
END:DAYLIGHT
BEGIN:STANDARD
TZOFFSETFROM:-0500
TZOFFSETTO:-0600
TZNAME:CST
DTSTART:20271107T070000
END:STANDARD
END:VTIMEZONE
BEGIN:VEVENT
DTSTART;TZID=America/Chicago:20260119T080000
DTEND;TZID=America/Chicago:20260122T170000
DTSTAMP:20260423T075036
CREATED:20250728T204834Z
LAST-MODIFIED:20250728T204834Z
UID:4256-1768809600-1769101200@www.cleanairchoice.org
SUMMARY:Clean Fuels Conference
DESCRIPTION:The Clean Fuels Conference is the ONE must-attend event for biodiesel\, renewable diesel and sustainable aviation fuel professionals. On average\, about 800 VIPs from the industry attend the conference. It’s an educational and networking business meeting for the leading renewable fuels that power heavy-duty land\, sea and sky machines. Clean fuels producers and marketers\, distributors\, feedstock providers\, fleet managers\, ESG officers and media all attend. \nThe 2026 conference will be held in Orlando\, Florida. Venue TBD.
URL:https://www.cleanairchoice.org/event/clean-fuels-conference/
LOCATION:Orlando\, Florida
ATTACH;FMTTYPE=image/png:https://www.cleanairchoice.org/wp-content/uploads/2025/07/postcard-Final_Postcard.png
END:VEVENT
BEGIN:VEVENT
DTSTART;TZID=America/Chicago:20260120T080000
DTEND;TZID=America/Chicago:20260121T170000
DTSTAMP:20260423T075036
CREATED:20251208T035151Z
LAST-MODIFIED:20251208T035151Z
UID:4624-1768896000-1769014800@www.cleanairchoice.org
SUMMARY:Minnesota AG EXPO
DESCRIPTION:Jan 20-21\, 2026 \nMayo Clinic Health System Event Center\n1 Civic Center Plaza\nMankato\, MN 56001 \nReunite with the agriculture community January 20-21\, 2026 during MN Ag Expo at the Mayo Clinic Health System Event Center in Mankato. Over the course of two days\, Minnesota’s marquee winter agriculture gathering sets our sights on the future by offering networking opportunities; educational sessions; a full trade show floor; dynamic speakers; fundraising events – and more! \n  \nRegister Online here: Attendee Registration – MN Ag Expo
URL:https://www.cleanairchoice.org/event/minnesota-ag-expo/
LOCATION:Mayo Clinic Health System Event Center\, 1 Civic Center Plaza\, Mankato\, MN\, 56001\, United States
ATTACH;FMTTYPE=image/jpeg:https://www.cleanairchoice.org/wp-content/uploads/2025/12/ag-expo-logo-final-no-year-200x236-1.jpg
END:VEVENT
END:VCALENDAR