BEGIN:VCALENDAR
VERSION:2.0
PRODID:-//Clean Air Choice - ECPv6.15.18//NONSGML v1.0//EN
CALSCALE:GREGORIAN
METHOD:PUBLISH
X-WR-CALNAME:Clean Air Choice
X-ORIGINAL-URL:https://www.cleanairchoice.org
X-WR-CALDESC:Events for Clean Air Choice
REFRESH-INTERVAL;VALUE=DURATION:PT1H
X-Robots-Tag:noindex
X-PUBLISHED-TTL:PT1H
BEGIN:VTIMEZONE
TZID:America/Chicago
BEGIN:DAYLIGHT
TZOFFSETFROM:-0600
TZOFFSETTO:-0500
TZNAME:CDT
DTSTART:20250309T080000
END:DAYLIGHT
BEGIN:STANDARD
TZOFFSETFROM:-0500
TZOFFSETTO:-0600
TZNAME:CST
DTSTART:20251102T070000
END:STANDARD
BEGIN:DAYLIGHT
TZOFFSETFROM:-0600
TZOFFSETTO:-0500
TZNAME:CDT
DTSTART:20260308T080000
END:DAYLIGHT
BEGIN:STANDARD
TZOFFSETFROM:-0500
TZOFFSETTO:-0600
TZNAME:CST
DTSTART:20261101T070000
END:STANDARD
BEGIN:DAYLIGHT
TZOFFSETFROM:-0600
TZOFFSETTO:-0500
TZNAME:CDT
DTSTART:20270314T080000
END:DAYLIGHT
BEGIN:STANDARD
TZOFFSETFROM:-0500
TZOFFSETTO:-0600
TZNAME:CST
DTSTART:20271107T070000
END:STANDARD
END:VTIMEZONE
BEGIN:VEVENT
DTSTART;TZID=America/Chicago:20260401T080000
DTEND;TZID=America/Chicago:20260402T170000
DTSTAMP:20260419T112945
CREATED:20260209T185602Z
LAST-MODIFIED:20260209T185602Z
UID:4642-1775030400-1775149200@www.cleanairchoice.org
SUMMARY:Upper Midwest Convivence Store and Energy Convention
DESCRIPTION:Upper Midwest Convenience Store and Energy Convention (UMCS) is a joint venture between Fueling Minnesota and the FUELIowa trade associations consisting members in the states of Minnesota and Iowa. These members operate more than 3600 locations and many different types of businesses such as convenience stores\, restaurants\, car washes\, tire\, battery and accessories in addition to commercial\, agricultural and home heating accounts. \nExhibitors include companies who provide goods and services to the petroleum and convenience store industry. Petroleum equipment\, computer software\, cash registers\, car washes\, food and beverage products\, and c-store equipment will be at the UMCS 2024 Convention and Trade Show. Monday kicks off the day with a variety of educational workshops. \nMinnesota Clean Cities Coalition\, hosted within American Lung Association\, is a resource for retailers\, producers\, and other stakeholders working to expand the availability and use of ethanol\, biodiesel and other alternative fuels and clean vehicle technologies. Stop by the booth with your questions on compatibility\, regulations\, tax incentives or other needs.\nE85 station banners\, decals\, brochure holders and more are available for pick up at the event or to be shipped to your station. \nFor full event details click here.
URL:https://www.cleanairchoice.org/event/upper-midwest-convivence-store-and-energy-convention/
LOCATION:Saint Paul Riverfront Hotel\, 175 Kellogg Blvd\, St Paul\, MN\, 55102\, United States
ATTACH;FMTTYPE=image/jpeg:https://www.cleanairchoice.org/wp-content/uploads/2026/02/2026UMCSHeader.jpg
END:VEVENT
BEGIN:VEVENT
DTSTART;TZID=America/Chicago:20260401T180000
DTEND;TZID=America/Chicago:20260401T200000
DTSTAMP:20260419T112945
CREATED:20260331T203342Z
LAST-MODIFIED:20260331T203342Z
UID:5011-1775066400-1775073600@www.cleanairchoice.org
SUMMARY:MNEVO meeting: Used EV market at GS Motors
DESCRIPTION:High gas prices have increased interest in EVs and there has never been so many used EVs available on the market. Hopefully\, this will cause many Minnesota families to shift to driving electric. \nJoin us to hear an update on the used EV market\, from owner Pavel Ihnatovich\, who has been selling used EVs at his dealership GS Motors in Hopkins for nearly a decade. Hundreds of people have started their EV journey with Pavel\, so we are happy that he has invited us to his shop to chat about the topic. This event is less structured\, with more opportunities to chat with other owners\, talk shop about EVs and test drive used EVs. \nWednesday\, April 1 | 6:00 – 8:00 pm\nGS Motors\n10921 Excelsior Blvd #114\nHopkins\, MN 55343 \nPavel will provide an overview where he sees the used EV market\, what works well and where we need more education. This will also be a great opportunity to bring along a friend who is considering getting an EV. \nApril is Earth Month: We will review EV events being planned in the community as well where you can volunteer your time and pick up literature and banners which are provided by Minnesota Clean Cities Coalition. \nAgenda: \n\n6:00-6:45 Social hour\, chat with other EV owners and test drive some used EVs\n6:45-7:30 Used EV Market Update and Q&A\, Pavel Ihnatovich\, GS Motors.\n7:30-8:00 April events update
URL:https://www.cleanairchoice.org/event/mnevo-meeting-used-ev-market-at-gs-motors/
LOCATION:IL
ATTACH;FMTTYPE=image/png:https://www.cleanairchoice.org/wp-content/uploads/2021/05/MN-EV-owners-EAA-logo.png
END:VEVENT
END:VCALENDAR