BEGIN:VCALENDAR
VERSION:2.0
PRODID:-//Clean Air Choice - ECPv6.15.18//NONSGML v1.0//EN
CALSCALE:GREGORIAN
METHOD:PUBLISH
X-WR-CALNAME:Clean Air Choice
X-ORIGINAL-URL:https://www.cleanairchoice.org
X-WR-CALDESC:Events for Clean Air Choice
REFRESH-INTERVAL;VALUE=DURATION:PT1H
X-Robots-Tag:noindex
X-PUBLISHED-TTL:PT1H
BEGIN:VTIMEZONE
TZID:America/Chicago
BEGIN:DAYLIGHT
TZOFFSETFROM:-0600
TZOFFSETTO:-0500
TZNAME:CDT
DTSTART:20250309T080000
END:DAYLIGHT
BEGIN:STANDARD
TZOFFSETFROM:-0500
TZOFFSETTO:-0600
TZNAME:CST
DTSTART:20251102T070000
END:STANDARD
BEGIN:DAYLIGHT
TZOFFSETFROM:-0600
TZOFFSETTO:-0500
TZNAME:CDT
DTSTART:20260308T080000
END:DAYLIGHT
BEGIN:STANDARD
TZOFFSETFROM:-0500
TZOFFSETTO:-0600
TZNAME:CST
DTSTART:20261101T070000
END:STANDARD
BEGIN:DAYLIGHT
TZOFFSETFROM:-0600
TZOFFSETTO:-0500
TZNAME:CDT
DTSTART:20270314T080000
END:DAYLIGHT
BEGIN:STANDARD
TZOFFSETFROM:-0500
TZOFFSETTO:-0600
TZNAME:CST
DTSTART:20271107T070000
END:STANDARD
END:VTIMEZONE
BEGIN:VEVENT
DTSTART;TZID=America/Chicago:20260425T090000
DTEND;TZID=America/Chicago:20260425T130000
DTSTAMP:20260423T035021
CREATED:20260313T202602Z
LAST-MODIFIED:20260313T202602Z
UID:4906-1777107600-1777122000@www.cleanairchoice.org
SUMMARY:Oakdale Eco Fair & Clothing Swap
DESCRIPTION:April 25\, 2026 \n9:00am-1:00pm\nCastle Elementary School (6675 50th Street N) \nThe City of Oakdale Eco Fair will provide education to the community about a variety of environmental topics and initiatives. The purpose is for attendees to leave with actionable ways to make a difference as environmental stewards in Oakdale. The Eco Fair will include: \n\nExhibitors and vendors on a variety of topics (posted closer to event date)\nFamily-friendly activities\nFood truck\nClothing Swap
URL:https://www.cleanairchoice.org/event/oakdale-eco-fair-clothing-swap/
LOCATION:Castle Elementary School\, 6675 50th Street N\, Oakdale\, MN\, 55128\, United States
ATTACH;FMTTYPE=image/jpeg:https://www.cleanairchoice.org/wp-content/uploads/2026/03/images-1.jpg
END:VEVENT
BEGIN:VEVENT
DTSTART;TZID=America/Chicago:20260425T140000
DTEND;TZID=America/Chicago:20260425T170000
DTSTAMP:20260423T035021
CREATED:20260317T185059Z
LAST-MODIFIED:20260317T185358Z
UID:4913-1777125600-1777136400@www.cleanairchoice.org
SUMMARY:Fresh Air Wheels eBike Launch Party
DESCRIPTION:April 25\, 2026\nMilton Square\n2262 Como Ave\, St Paul\, MN 55108 \nJoin TT-ASAP for the launch of Fresh Air Wheels\, St. Paul’s first e-bike library. Visitors can stop by to “meet” the e-bikes\, learn about sustainable transportation\, shop local businesses\, and enjoy a family-friendly afternoon in Milton Square. \nLearn more here: Fresh Air Wheels eBike Launch Party\, Milton Square\, St Paul\, 25 April 2026 | AllEvents
URL:https://www.cleanairchoice.org/event/fresh-air-wheels-ebike-launch-party/
LOCATION:Milton Square\, Milton Square 2262 Como Ave\, St Paul\, MN\, 55108\, United States
ATTACH;FMTTYPE=image/jpeg:https://www.cleanairchoice.org/wp-content/uploads/2026/03/Screenshot_17-3-2026_13481_allevents.in_.jpeg
END:VEVENT
END:VCALENDAR