BEGIN:VCALENDAR
VERSION:2.0
PRODID:-//Clean Air Choice - ECPv6.15.18//NONSGML v1.0//EN
CALSCALE:GREGORIAN
METHOD:PUBLISH
X-ORIGINAL-URL:https://www.cleanairchoice.org
X-WR-CALDESC:Events for Clean Air Choice
REFRESH-INTERVAL;VALUE=DURATION:PT1H
X-Robots-Tag:noindex
X-PUBLISHED-TTL:PT1H
BEGIN:VTIMEZONE
TZID:America/Chicago
BEGIN:DAYLIGHT
TZOFFSETFROM:-0600
TZOFFSETTO:-0500
TZNAME:CDT
DTSTART:20250309T080000
END:DAYLIGHT
BEGIN:STANDARD
TZOFFSETFROM:-0500
TZOFFSETTO:-0600
TZNAME:CST
DTSTART:20251102T070000
END:STANDARD
BEGIN:DAYLIGHT
TZOFFSETFROM:-0600
TZOFFSETTO:-0500
TZNAME:CDT
DTSTART:20260308T080000
END:DAYLIGHT
BEGIN:STANDARD
TZOFFSETFROM:-0500
TZOFFSETTO:-0600
TZNAME:CST
DTSTART:20261101T070000
END:STANDARD
BEGIN:DAYLIGHT
TZOFFSETFROM:-0600
TZOFFSETTO:-0500
TZNAME:CDT
DTSTART:20270314T080000
END:DAYLIGHT
BEGIN:STANDARD
TZOFFSETFROM:-0500
TZOFFSETTO:-0600
TZNAME:CST
DTSTART:20271107T070000
END:STANDARD
END:VTIMEZONE
BEGIN:VEVENT
DTSTART;VALUE=DATE:20260210
DTEND;VALUE=DATE:20260212
DTSTAMP:20260423T050320
CREATED:20251005T191903Z
LAST-MODIFIED:20251205T030942Z
UID:4507-1770681600-1770854399@www.cleanairchoice.org
SUMMARY:Energy Independence Summit
DESCRIPTION:Energy Independence Summit brings together leaders of the nation’s Clean Cities and Communities\, the clean transportation industry\, and the Presidential Administration and Congress to discuss new strategies for advancing markets for clean fuels and vehicles: \nLEARN the latest information about the tens of billions of dollars the federal government will invest in clean transportation technologies over the next five years. \nHEAR from the leaders of the EPA Clean School Bus Program\, the DOT Fueling Infrastructure Program\, and the DOE Clean Hydrogen Program. \nMEET with your House and Senate offices to make sure they know how important it is to continue to invest in clean transportation programs and technologies that benefit all communities
URL:https://www.cleanairchoice.org/event/energy-independence-summit/
LOCATION:Washington\, D.C.
END:VEVENT
BEGIN:VEVENT
DTSTART;TZID=America/Chicago:20260224T183000
DTEND;TZID=America/Chicago:20260224T203000
DTSTAMP:20260423T050320
CREATED:20260213T175801Z
LAST-MODIFIED:20260213T202803Z
UID:4687-1771957800-1771965000@www.cleanairchoice.org
SUMMARY:MN EV Owners meeting 2026 Legislative
DESCRIPTION:The 2026 Minnesota legislative session officially starts next week and even though EV related topics are most likely not on the top of the agenda there will for sure be EV bills developed and introduced during this session. At this meeting we will hear from Anjali Bains\, Managing Director\, Transportation\, Fresh Energy and John Berns\, contract lobbyist with Fresh Energy on what we can expect at the Minnesota Legislature this session. They will share information about legislative priorities\, process and outcome of Electricity as a Vehicle Fuel Working Group\, EV registration fee reform efforts\, and how we can lay groundwork now for 2027 action. \nJoin MN EV Owners to stay up to date and learn how you can help. \nRegister for the zoom meeting here: Meeting Registration – Zoom \n MN EV Owners 2026 Legislative session and regulatory update Tuesday Feb 24\, 6:30-8:30PM \nAgenda: \n6:30-6:45 Opening and introductions \n6:45-7:10 Quick market update and trends: Jukka Kukkonen \n7:10-8:00 2026 Legislative session: Anjali Bains\, Managing Director\, Transportation\, Fresh Energy and John Berns\, contract lobbyist with Fresh Energy \n8:00-8:20 Regulatory updates: Nick Haeg\, Senior Associate\, Electric Vehicles\, Fresh Energy \n8:20-8:30 Updates and Upcoming events.
URL:https://www.cleanairchoice.org/event/mn-ev-owners-meeting-2026-legislative/
LOCATION:MN
ATTACH;FMTTYPE=image/jpeg:https://www.cleanairchoice.org/wp-content/uploads/2026/02/49f443_bb0f874c2a504aa1bfd5ea4ed0d1508cmv2.jpg
END:VEVENT
END:VCALENDAR